BEGIN:VCALENDAR
VERSION:2.0
PRODID:-//PYVOBJECT//NONSGML Version 1//EN
BEGIN:VEVENT
UID:23087:2938
DTSTART:20150316T000000
DTEND:20150831T000000
DESCRIPTION:Besuchen Sie unser neues Cafe-Pub!
DTSTAMP:20260419T172647Z
SUMMARY:Neueröffnung Cafe Pub Tratscherl in Grünburg 4.3.2015
END:VEVENT
END:VCALENDAR
