BEGIN:VCALENDAR
VERSION:2.0
PRODID:-//PYVOBJECT//NONSGML Version 1//EN
BEGIN:VEVENT
UID:23087:2937
DTSTART:20150316T000000
DTEND:20150430T000000
DESCRIPTION:Er&ouml\;ffnung der Panoramaterrasse im April 2015 je nach Witt
 erung
DTSTAMP:20260419T170935Z
SUMMARY:Gastgartenopening
END:VEVENT
END:VCALENDAR
